Workbook

Sheet Janeiro
A1: Data | B1: Descrição | C1: Tipo (Entrada/Saída) | D1: Categoria | E1: Forma de Pagamento | F1: Valor (R$) | G1: Saldo (R$)
A2: 45958 | B2: Saldo Inicial | C2: entrada | D2: Exemplo | E2: Dinheiro | F2: 500 | G2: =F2 -> 500
C3: saída | F3: 150

Sheet Fevereiro
A1: Data | B1: Descrição | C1: Tipo (Entrada/Saída) | D1: Categoria | E1: Forma de Pagamento | F1: Valor (R$) | G1: Saldo (R$)
B2: Saldo Inicial | C2: entrada | F2: 150 | G2: =F2 -> 150
C3: saída | F3: 50

Sheet Março
A1: Data | B1: Descrição | C1: Tipo (Entrada/Saída) | D1: Categoria | E1: Forma de Pagamento | F1: Valor (R$) | G1: Saldo (R$)
B2: Saldo Inicial | C2: entrada | F2: 1000 | G2: =F2 -> 1000
C3: saída | F3: 350

Sheet Abril
A1: Data | B1: Descrição | C1: Tipo (Entrada/Saída) | D1: Categoria | E1: Forma de Pagamento | F1: Valor (R$) | G1: Saldo (R$)
B2: Saldo Inicial | C2: entrada | F2: 500 | G2: =F2 -> 500
C3: saída | F3: 150

Sheet Maio
A1: Data | B1: Descrição | C1: Tipo (Entrada/Saída) | D1: Categoria | E1: Forma de Pagamento | F1: Valor (R$) | G1: Saldo (R$)
B2: Saldo Inicial | F2: 0 | G2: =F2 -> 0

Sheet Junho
A1: Data | B1: Descrição | C1: Tipo (Entrada/Saída) | D1: Categoria | E1: Forma de Pagamento | F1: Valor (R$) | G1: Saldo (R$)
B2: Saldo Inicial | F2: 0 | G2: =F2 -> 0

Sheet Julho
A1: Data | B1: Descrição | C1: Tipo (Entrada/Saída) | D1: Categoria | E1: Forma de Pagamento | F1: Valor (R$) | G1: Saldo (R$)
B2: Saldo Inicial | F2: 0 | G2: =F2 -> 0

Sheet Agosto
A1: Data | B1: Descrição | C1: Tipo (Entrada/Saída) | D1: Categoria | E1: Forma de Pagamento | F1: Valor (R$) | G1: Saldo (R$)
B2: Saldo Inicial | F2: 0 | G2: =F2 -> 0

Sheet Setembro
A1: Data | B1: Descrição | C1: Tipo (Entrada/Saída) | D1: Categoria | E1: Forma de Pagamento | F1: Valor (R$) | G1: Saldo (R$)
B2: Saldo Inicial | F2: 0 | G2: =F2 -> 0

Sheet Outubro
A1: Data | B1: Descrição | C1: Tipo (Entrada/Saída) | D1: Categoria | E1: Forma de Pagamento | F1: Valor (R$) | G1: Saldo (R$)
B2: Saldo Inicial | F2: 0 | G2: =F2 -> 0

Sheet Novembro
A1: Data | B1: Descrição | C1: Tipo (Entrada/Saída) | D1: Categoria | E1: Forma de Pagamento | F1: Valor (R$) | G1: Saldo (R$)
B2: Saldo Inicial | F2: 0 | G2: =F2 -> 0

Sheet Dezembro
A1: Data | B1: Descrição | C1: Tipo (Entrada/Saída) | D1: Categoria | E1: Forma de Pagamento | F1: Valor (R$) | G1: Saldo (R$)
B2: Saldo Inicial | F2: 0 | G2: =F2 -> 0

Sheet Resumo Anual
B1: #VALUE!
B2: Resumo Financeiro Anual - Meu Negócio
B4: Mês | C4: Entradas (R$) | D4: Saídas (R$) | E4: Saldo Final (R$)
B5: Janeiro | C5: =SUMIF(Janeiro!C:C,"Entrada",Janeiro!F:F) -> 500 | D5: =SUMIF(Janeiro!C:C,"Saída",Janeiro!F:F) -> 150 | E5: =C5-D5 -> 350
B6: Fevereiro | C6: =SUMIF(Fevereiro!C:C,"Entrada",Fevereiro!F:F) -> 150 | D6: =SUMIF(Fevereiro!C:C,"Saída",Fevereiro!F:F) -> 50 | E6: =C6-D6 -> 100
B7: Março | C7: =SUMIF(Março!C:C,"Entrada",Março!F:F) -> 1000 | D7: =SUMIF(Março!C:C,"Saída",Março!F:F) -> 350 | E7: =C7-D7 -> 650
B8: Abril | C8: =SUMIF(Abril!C:C,"Entrada",Abril!F:F) -> 500 | D8: =SUMIF(Abril!C:C,"Saída",Abril!F:F) -> 150 | E8: =C8-D8 -> 350
B9: Maio | C9: =SUMIF(Maio!C:C,"Entrada",Maio!F:F) -> 0 | D9: =SUMIF(Maio!C:C,"Saída",Maio!F:F) -> 0 | E9: =C9-D9 -> 0
B10: Junho | C10: =SUMIF(Junho!C:C,"Entrada",Junho!F:F) -> 0 | D10: =SUMIF(Junho!C:C,"Saída",Junho!F:F) -> 0 | E10: =C10-D10 -> 0
B11: Julho | C11: =SUMIF(Julho!C:C,"Entrada",Julho!F:F) -> 0 | D11: =SUMIF(Julho!C:C,"Saída",Julho!F:F) -> 0 | E11: =C11-D11 -> 0
B12: Agosto | C12: =SUMIF(Agosto!C:C,"Entrada",Agosto!F:F) -> 0 | D12: =SUMIF(Agosto!C:C,"Saída",Agosto!F:F) -> 0 | E12: =C12-D12 -> 0
B13: Setembro | C13: =SUMIF(Setembro!C:C,"Entrada",Setembro!F:F) -> 0 | D13: =SUMIF(Setembro!C:C,"Saída",Setembro!F:F) -> 0 | E13: =C13-D13 -> 0
B14: Outubro | C14: =SUMIF(Outubro!C:C,"Entrada",Outubro!F:F) -> 0 | D14: =SUMIF(Outubro!C:C,"Saída",Outubro!F:F) -> 0 | E14: =C14-D14 -> 0
B15: Novembro | C15: =SUMIF(Novembro!C:C,"Entrada",Novembro!F:F) -> 0 | D15: =SUMIF(Novembro!C:C,"Saída",Novembro!F:F) -> 0 | E15: =C15-D15 -> 0
B16: Dezembro | C16: =SUMIF(Dezembro!C:C,"Entrada",Dezembro!F:F) -> 0 | D16: =SUMIF(Dezembro!C:C,"Saída",Dezembro!F:F) -> 0 | E16: =C16-D16 -> 0
